BEGIN:VCALENDAR
VERSION:2.0
PRODID:-//Tukios.com/
BEGIN:VEVENT
UID:9539b544-0a82-466a-bc9c-07e73e40606b@www.mmoftexas.com
DTSTAMP:20260422T024538Z
DTSTART:20260425T160000Z
DTEND:20260425T170000Z
SUMMARY:Graveside Service
DESCRIPTION:
URL:https://www.mmoftexas.com/obituaries/jamie-roberts
LOCATION:Elm Grove Cemetery 605 West Uvalde Avenue  Alpine TX 79830
GEO:30.3623988;-103.6696171
END:VEVENT
END:VCALENDAR