BEGIN:VCALENDAR
VERSION:2.0
PRODID:-//Tukios.com/
BEGIN:VEVENT
UID:3f024fe7-76b0-4735-be18-20967b5a8b46@www.mmoftexas.com
DTSTAMP:20260423T011952Z
DTSTART:20260502T180000Z
DTEND:20260502T190000Z
SUMMARY:Memorial Service
DESCRIPTION:
URL:https://www.mmoftexas.com/obituaries/rosemary-privitzer
LOCATION:The Church in the Mountains 100 State Street  Fort Davis TX 
	79734
GEO:30.5885676;-103.8943963
END:VEVENT
END:VCALENDAR